BEGIN:VCALENDAR
VERSION:2.0
PRODID:icalendar-ruby
CALSCALE:GREGORIAN
BEGIN:VEVENT
DTSTAMP:20210227T153028Z
UID:70aa6f3b-1e38-460c-8d6d-c5b62a0b6fe1
DTSTART;VALUE=DATE:20210225
DESCRIPTION:Property ID# 673425\, Time: 7:00PM
SUMMARY:Auction for 1004 Lowood-Minden Road
END:VEVENT
END:VCALENDAR
